{"text_format":"1","workbook":"xlsx","n_sheets":4,"sheets":["Diagram. flessioni profili","Calcolo flessioni profilo","Diagram. rulliere","formule"],"not_rendered":{"charts":0,"images":28,"macros":0,"external_links":0,"defined_names":2,"comments":0,"pivot_tables":0},"unopened":[],"bounds":{"document_bytes":16777216,"sheet_cells":100000,"rows_first":2000,"rows_last":500,"rows_between":2000,"halvings":0,"cell_chars":16384,"cell_head_chars":4096},"cells_cut":0,"cells_raw":0,"read":"whole","date_system":"1900"}

{"sheet":"Diagram. flessioni profili","index":0,"n_rows":33,"n_cols":33,"rows_kept":33,"cut":false,"hidden":false,"merged":[[26,4,26,32],[14,2,24,2]]}
[]
[null,null,"Diagramma delle aree di sicurezza"]
[null,null,"Consente di valutare quale dei nostri profilati tubolari di alluminio scegliere per realizzare una trave"]
[null,null,"e quindi di scegliere il migliore compromesso fra costo e risultato"]
[null,null,"I limiti dell'area di ogni profilo rappresentano i rapporti  lunghezza/peso massimi consigliabili"]
[null,null,"Sono definiti tenendo conto di un fattore di sicurezza di 2,5 e dei limiti di sicurezza dei giunti"]
[]
[]
[]
[]
[]
[]
[]
[]
[null,null,"L = mm",2400,null,null,null,null,null,null,null,null,null,null,null,null,null,null,null,null,null,null,null,null,null,null,null,18.399999999999999]
[null,null,null,2200,null,null,null,null,null,null,null,null,null,null,null,null,null,null,null,null,null,null,null,null,null,null,null,null,17]
[null,null,null,2000,null,null,null,null,null,null,null,null,null,null,null,null,null,null,null,null,null,null,null,null,null,null,null,null,null,14.9]
[null,null,null,1800,null,null,null,null,null,null,null,null,null,null,null,null,null,null,null,null,null,null,null,null,null,null,null,null,null,null,13.2]
[null,null,null,1600,null,null,null,null,null,15.2,null,null,null,16.5,null,null,null,null,null,null,null,null,null,null,null,null,null,null,null,null,null,9.8000000000000007]
[null,null,null,1400,null,null,null,null,null,null,11.7,null,null,null,null,13.1,null,null,null,null,null,null,null,null,null,null,null,null,null,null,null,null,7.3]
[null,null,null,1200,null,null,null,null,null,null,null,null,9.1999999999999993,null,null,null,null,9.5,null,null,null,null,null,null,null,null,null,null,null,null,null,null,4.5999999999999996]
[null,null,null,1000,null,null,null,null,null,null,null,null,null,null,6.4,null,null,null,null,null,6.6,null,null,null,null,null,null,null,null,null,null,null,2.7]
[null,null,null,800,null,null,null,null,null,null,null,null,null,null,null,null,null,4.0999999999999996,null,null,null,null,3.7,null,null,null,null,null,null,null,null,null,1.4]
[null,null,null,600,null,null,null,null,null,null,null,null,null,null,null,null,null,null,null,null,null,null,2.4,null,2.2000000000000002,null,null,null,null,null,null,null,0.6]
[null,null,null,400,null,null,null,null,null,null,null,null,null,null,null,null,null,null,null,null,null,null,null,null,1,null,null,1,null,null,null,null,0.2]
[null,null,null,null,10,15,20,25,30,35,40,45,50,55,60,65,70,75,80,85,90,95,100,120,140,160,180,200,240,280,320,360,400]
[null,null,null,null,"P = Kg"]
[null,null,"Legenda:"]
[null,null,null,"Area consigliata per il profilo Easysae 35 Smart e Easysae Basic"]
[null,null,null,"Area consigliata per il profilo Easysae 35"]
[null,null,null,"Area consigliata per il profilo Easysae 60  e Easysae Hybrid"]
[null,null,4.4000000000000004,"Flessione in mm al centro della trave nella condizione L e P indicata"]
[null,null,"NB. Per conoscere la flessione in una specifica condizione utilizzare il foglio \"Calcolo delle flessioni\""]

{"sheet":"Calcolo flessioni profilo","index":1,"n_rows":15,"n_cols":15,"rows_kept":15,"cut":false,"hidden":false,"merged":[[11,2,11,13],[14,12,15,12],[14,13,15,13],[14,7,15,7],[14,8,15,8],[14,10,15,10],[14,11,15,11],[13,1,13,4],[14,6,15,6],[14,5,15,5],[14,9,15,9],[9,2,9,4],[6,14,6,20],[7,14,7,20],[8,14,8,20],[9,14,9,20],[0,1,0,11],[2,1,2,3],[6,2,6,4],[7,2,7,4],[8,2,8,4],[2,5,2,13]]}
[null,"       Tabella per il calcolo delle flessioni dei profilati"]
[]
[null,"Scegli il profilato e completa i dati",null,null,null,"I nostri profilati "]
[null,1,"Scegli il profilato   >>",null,null,"Easysae BASIC","Easysae 35 Smart","Easysae 35","Easysae 60","Easysae\nHybrid","Workit 50x60","Workit 60x50","Easysae35+E818","Easysae35+E820"]
[null,2,"L = Lunghezza  mm"]
[null,3,"    F = Carico Kg",null,null,{"$f":"IF($D$4=\"\",\"\",IF($D$4=\"Easysae BASIC\",\"f =    mm\",\"\"))","v":""},{"$f":"IF($D$4=\"\",\"\",IF($D$4=\"Easysae 35 Smart\",\"f =    mm\",\"\"))","v":""},{"$f":"IF($D$4=\"\",\"\",IF($D$4=\"Easysae 35\",\"f =    mm\",\"\"))","v":""},{"$f":"IF($D$4=\"\",\"\",IF($D$4=\"Easysae 60\",\"f =   mm\",\"\"))","v":""},{"$f":"IF($D$4=\"\",\"\",IF($D$4=\"Easysae Hybrid\",\"f =   mm\",\"\"))","v":""},{"$f":"IF($D$4=\"\",\"\",IF($D$4=\"Workit 50x60\",\"f =   mm\",\"\"))","v":""},{"$f":"IF($D$4=\"\",\"\",IF($D$4=\"Workit 60x50\",\"f =   mm\",\"\"))","v":""},{"$f":"IF($D$4=\"\",\"\",IF($D$4=\"Easysae35+E818\",\"f =   mm\",\"\"))","v":""},{"$f":"IF($D$4=\"\",\"\",IF($D$4=\"Easysae35+E820\",\"f =   mm\",\"\"))","v":""}]
[null,"A*",null,null,null,{"$f":"IF($D$4=\"Easysae BASIC\",IF($D$5=\"\",\"\",IF($D$6=\"\",\"\",IF($D$6>formule!D27,\"Snerv\",formule!D22))),\"\")","v":""},{"$f":"IF($D$4=\"Easysae 35 Smart\",IF($D$5=\"\",\"\",IF($D$6=\"\",\"\",IF($D$6>formule!E27,\"Snerv\",formule!E22))),\"\")","v":""},{"$f":"IF($D$4=\"Easysae 35\",IF($D$5=\"\",\"\",IF($D$6=\"\",\"\",IF($D$6>formule!F27,\"Snerv\",formule!F22))),\"\")","v":""},{"$f":"IF($D$4=\"Easysae 60\",IF($D$5=\"\",\"\",IF($D$6=\"\",\"\",IF($D$6>formule!G27,\"Snerv\",formule!G22))),\"\")","v":""},{"$f":"IF($D$4=\"Easysae Hybrid\",IF($D$5=\"\",\"\",IF($D$6=\"\",\"\",IF($D$6>formule!H27,\"Snerv\",formule!H22))),\"\")","v":""},{"$f":"IF($D$4=\"Workit 50x60\",IF($D$5=\"\",\"\",IF($D$6=\"\",\"\",IF($D$6>formule!I27,\"Snerv\",formule!I22))),\"\")","v":""},{"$f":"IF($D$4=\"Workit 60x50\",IF($D$5=\"\",\"\",IF($D$6=\"\",\"\",IF($D$6>formule!J27,\"Snerv\",formule!J22))),\"\")","v":""},{"$f":"IF($D$4=\"Easysae35+E818\",IF($D$5=\"\",\"\",IF($D$6=\"\",\"\",IF($D$6>formule!K27,\"Snerv\",formule!K22))),\"\")","v":""},{"$f":"IF($D$4=\"Easysae35+E820\",IF($D$5=\"\",\"\",IF($D$6=\"\",\"\",IF($D$6>formule!L27,\"Snerv\",formule!L22))),\"\")","v":""},{"$f":"IF(G7=\"Snerv\",\"Il carico applicato provoca lo snervamento del profilato\",IF(H7=\"Snerv\",\"Il carico applicato provoca lo snervamento del profilato\",IF(I7=\"Snerv\",\"Il carico applicato provoca lo snervamento del profilato\",IF(K7=\"Snerv\",\"Il carico applicato provoca lo snervamento del profilato\",IF(L7=\"Snerv\",\"Il carico applicato provoca lo snervamento del profilato\",IF(M7=\"Snerv\",\"Il carico applicato provoca lo snervamento del profilato\",IF(N7=\"Snerv\",\"Il carico applicato provoca lo snervamento del profilato\",\"\")))))))","v":""}]
[null,"B*",null,null,null,{"$f":"IF($D$4=\"Easysae BASIC\",IF($D$5=\"\",\"\",IF($D$6=\"\",\"\",IF($D$6>formule!D28,\"Snerv\",formule!D23))),\"\")","v":""},{"$f":"IF($D$4=\"Easysae 35 Smart\",IF($D$5=\"\",\"\",IF($D$6=\"\",\"\",IF($D$6>formule!E28,\"Snerv\",formule!E23))),\"\")","v":""},{"$f":"IF($D$4=\"Easysae 35\",IF($D$5=\"\",\"\",IF($D$6=\"\",\"\",IF($D$6>formule!F28,\"Snerv\",formule!F23))),\"\")","v":""},{"$f":"IF($D$4=\"Easysae 60\",IF($D$5=\"\",\"\",IF($D$6=\"\",\"\",IF($D$6>formule!G28,\"Snerv\",formule!G23))),\"\")","v":""},{"$f":"IF($D$4=\"Easysae Hybrid\",IF($D$5=\"\",\"\",IF($D$6=\"\",\"\",IF($D$6>formule!H28,\"Snerv\",formule!H23))),\"\")","v":""},{"$f":"IF($D$4=\"Workit 50x60\",IF($D$5=\"\",\"\",IF($D$6=\"\",\"\",IF($D$6>formule!I28,\"Snerv\",formule!I23))),\"\")","v":""},{"$f":"IF($D$4=\"Workit 60x50\",IF($D$5=\"\",\"\",IF($D$6=\"\",\"\",IF($D$6>formule!J28,\"Snerv\",formule!J23))),\"\")","v":""},{"$f":"IF($D$4=\"Easysae35+E818\",IF($D$5=\"\",\"\",IF($D$6=\"\",\"\",IF($D$6>formule!K28,\"Snerv\",formule!K23))),\"\")","v":""},{"$f":"IF($D$4=\"Easysae35+E820\",IF($D$5=\"\",\"\",IF($D$6=\"\",\"\",IF($D$6>formule!L28,\"Snerv\",formule!L23))),\"\")","v":""},{"$f":"IF(G8=\"Snerv\",\"Il carico applicato provoca lo snervamento del profilato\",IF(H8=\"Snerv\",\"Il carico applicato provoca lo snervamento del profilato\",IF(I8=\"Snerv\",\"Il carico applicato provoca lo snervamento del profilato\",IF(K8=\"Snerv\",\"Il carico applicato provoca lo snervamento del profilato\",IF(L8=\"Snerv\",\"Il carico applicato provoca lo snervamento del profilato\",IF(M8=\"Snerv\",\"Il carico applicato provoca lo snervamento del profilato\",IF(N8=\"Snerv\",\"Il carico applicato provoca lo snervamento del profilato\",\"\")))))))","v":""}]
[null,"C",null,null,null,{"$f":"IF($D$4=\"Easysae BASIC\",IF($D$5=\"\",\"\",IF($D$6=\"\",\"\",IF($D$6>formule!D29,\"Snerv\",formule!D24))),\"\")","v":""},{"$f":"IF($D$4=\"Easysae 35 Smart\",IF($D$5=\"\",\"\",IF($D$6=\"\",\"\",IF($D$6>formule!E29,\"Snerv\",formule!E24))),\"\")","v":""},{"$f":"IF($D$4=\"Easysae 35\",IF($D$5=\"\",\"\",IF($D$6=\"\",\"\",IF($D$6>formule!F29,\"Snerv\",formule!F24))),\"\")","v":""},{"$f":"IF($D$4=\"Easysae 60\",IF($D$5=\"\",\"\",IF($D$6=\"\",\"\",IF($D$6>formule!G29,\"Snerv\",formule!G24))),\"\")","v":""},{"$f":"IF($D$4=\"Easysae Hybrid\",IF($D$5=\"\",\"\",IF($D$6=\"\",\"\",IF($D$6>formule!H29,\"Snerv\",formule!H24))),\"\")","v":""},{"$f":"IF($D$4=\"Workit 50x60\",IF($D$5=\"\",\"\",IF($D$6=\"\",\"\",IF($D$6>formule!I29,\"Snerv\",formule!I24))),\"\")","v":""},{"$f":"IF($D$4=\"Workit 60x50\",IF($D$5=\"\",\"\",IF($D$6=\"\",\"\",IF($D$6>formule!J29,\"Snerv\",formule!J24))),\"\")","v":""},{"$f":"IF($D$4=\"Easysae35+E818\",IF($D$5=\"\",\"\",IF($D$6=\"\",\"\",IF($D$6>formule!K29,\"Snerv\",formule!K24))),\"\")","v":""},{"$f":"IF($D$4=\"Easysae35+E820\",IF($D$5=\"\",\"\",IF($D$6=\"\",\"\",IF($D$6>formule!L29,\"Snerv\",formule!L24))),\"\")","v":""},""]
[null,"D",null,null,null,{"$f":"IF($D$4=\"Easysae Basic\",IF($D$5=\"\",\"\",IF($D$6=\"\",\"\",IF($D$6>formule!D30,\"Snerv\",formule!D25))),\"\")","v":""},{"$f":"IF($D$4=\"Easysae 35 Smart\",IF($D$5=\"\",\"\",IF($D$6=\"\",\"\",IF($D$6>formule!E30,\"Snerv\",formule!E25))),\"\")","v":""},{"$f":"IF($D$4=\"Easysae 35\",IF($D$5=\"\",\"\",IF($D$6=\"\",\"\",IF($D$6>formule!F30,\"Snerv\",formule!F25))),\"\")","v":""},{"$f":"IF($D$4=\"Easysae 60\",IF($D$5=\"\",\"\",IF($D$6=\"\",\"\",IF($D$6>formule!G30,\"Snerv\",formule!G25))),\"\")","v":""},{"$f":"IF($D$4=\"Easysae Hybrid\",IF($D$5=\"\",\"\",IF($D$6=\"\",\"\",IF($D$6>formule!H30,\"Snerv\",formule!H25))),\"\")","v":""},{"$f":"IF($D$4=\"Workit 50x60\",IF($D$5=\"\",\"\",IF($D$6=\"\",\"\",IF($D$6>formule!I30,\"Snerv\",formule!I25))),\"\")","v":""},{"$f":"IF($D$4=\"Workit 60x50\",IF($D$5=\"\",\"\",IF($D$6=\"\",\"\",IF($D$6>formule!J30,\"Snerv\",formule!J25))),\"\")","v":""},{"$f":"IF($D$4=\"Easysae35+E818\",IF($D$5=\"\",\"\",IF($D$6=\"\",\"\",IF($D$6>formule!K30,\"Snerv\",formule!K25))),\"\")","v":""},{"$f":"IF($D$4=\"Easysae35+E820\",IF($D$5=\"\",\"\",IF($D$6=\"\",\"\",IF($D$6>formule!L30,\"Snerv\",formule!L25))),\"\")","v":""},""]
[]
[null,"*"," Consigliamo di prendere in considerazione solo i valori A e B,in quanto fissaggi indeformabili sono puramente teorici"]
[]
[null,"Tenuta delle giunzioni.\nCarico massimo consigliato su una traversa",null,null,null,{"$f":"IF($D$4=\"\",\"\",IF($D$4=\"Easysae BASIC\",\"F x 2 =\",\"\"))","v":""},{"$f":"IF($D$4=\"\",\"\",IF($D$4=\"Easysae 35 Smart\",\"F x 2 =\",\"\"))","v":""},{"$f":"IF($D$4=\"\",\"\",IF($D$4=\"Easysae 35\",\"F x 2 =\",\"\"))","v":""},{"$f":"IF($D$4=\"\",\"\",IF($D$4=\"Easysae 60\",\"F x 2 =\",\"\"))","v":""},{"$f":"IF($D$4=\"\",\"\",IF($D$4=\"Easysae Hybrid\",\"F x 2 =\",\"\"))","v":""},{"$f":"IF($D$4=\"\",\"\",IF($D$4=\"Workit 50x60\",\"F x 2 =\",\"\"))","v":""},{"$f":"IF($D$4=\"\",\"\",IF($D$4=\"Workit 60x50\",\"F x 2 =\",\"\"))","v":""},{"$f":"IF($D$4=\"\",\"\",IF($D$4=\"Easysae35+E818\",\"F x 2 =\",\"\"))","v":""},{"$f":"IF($D$4=\"\",\"\",IF($D$4=\"Easysae35+E820\",\"F x 2 =\",\"\"))","v":""}]
[null,null,null,null,null,{"$f":"IF($D$4=\"\",\"\",IF($D$4=\"Easysae BASIC\",\"200 Kg\",\"\"))","v":""},{"$f":"IF($D$4=\"\",\"\",IF($D$4=\"Easysae 35 Smart\",\"200 Kg\",\"\"))","v":""},{"$f":"IF($D$4=\"\",\"\",IF($D$4=\"Easysae 35\",\"200 Kg\",\"\"))","v":""},{"$f":"IF($D$4=\"\",\"\",IF($D$4=\"Easysae 60\",\"400 Kg\",\"\"))","v":""},{"$f":"IF($D$4=\"\",\"\",IF($D$4=\"Easysae Hybrid\",\"500 Kg\",\"\"))","v":""},{"$f":"IF($D$4=\"\",\"\",IF($D$4=\"Workit 50x60\",\"500 Kg\",\"\"))","v":""},{"$f":"IF($D$4=\"\",\"\",IF($D$4=\"Workit 60x50\",\"500 Kg\",\"\"))","v":""},{"$f":"IF($D$4=\"\",\"\",IF($D$4=\"Easysae35+E818\",\"200 Kg\",\"\"))","v":""},{"$f":"IF($D$4=\"\",\"\",IF($D$4=\"Easysae35+E820\",\"200 Kg\",\"\"))","v":""}]

{"sheet":"Diagram. rulliere","index":2,"n_rows":43,"n_cols":23,"rows_kept":43,"cut":false,"hidden":false,"merged":[[34,14,36,15],[38,14,40,15],[42,14,44,15],[22,8,23,9],[15,1,29,1],[31,3,31,22],[18,8,19,9],[15,8,16,9]]}
[]
[]
[null,"Consigli per la realizzazione di piani a rullini"]
[null,"Il diagramma sottostante mostra la quantità minima consigliata di vie a rulli "]
[null,"per realizzare una corsia. Si è tenuto conto della lunghezza della campata"]
[null,"e del peso uniformemente distribuito, "]
[null,"Nel caso siano necessarie vie di corsa più lunghe di mm 1.800 si consiglia "]
[null,"di prevedere appoggi intermedi "]
[]
[]
[]
[]
[]
[]
[]
[null,"L = mm",1800,null,null,null,null,null,"4R"]
[null,null,1700]
[null,null,1600]
[null,null,1500,null,null,null,null,null,"3R"]
[null,null,1400]
[null,null,1300]
[null,null,1200]
[null,null,1100,null,null,null,null,null,"2R"]
[null,null,1000]
[null,null,900]
[null,null,800]
[null,null,700]
[null,null,600]
[null,null,500]
[null,null,400]
[null,null,null,10,20,30,40,50,60,70,80,90,100,110,120,130,140,150,160,170,180,190,200]
[null,null,null,"P = Kg"]
[]
[]
[null,null,null,null,null,null,null,null,null,null,null,null,null,null,"2R"]
[]
[]
[]
[null,null,null,null,null,null,null,null,null,null,null,null,null,null,"3R"]
[]
[]
[]
[null,null,null,null,null,null,null,null,null,null,null,null,null,null,"4R"]

{"sheet":"formule","index":3,"n_rows":61,"n_cols":12,"rows_kept":61,"cut":false,"hidden":true,"merged":[[35,2,35,8]]}
[]
[]
[]
["DATI PROFILO","sigla","u/m","Easysae BASIC","Easysae 35 Smart","Easysae 35","Easysae 60","Easysae Hybrid","Workit 50x60","Workit 60x50","Easysae35+E818","Easysae35+E820"]
[]
["Momento di inerzia","I","mm^4",18458,17750,25268,278218,325702,358200,254521,53833,57525]
[]
["Modulo di resistenza","W","mm^3",{"$f":"D6/17.5","v":1054.7428571428572},{"$f":"E6/17.5","v":1014.2857142857143},{"$f":"F6/17.5","v":1443.8857142857144},{"$f":"G6/30","v":9273.9333333333325},{"$f":"H6/30","v":10856.733333333334},{"$f":"I6/30","v":11940},{"$f":"J6/25","v":10180.84},2527,2720]
[]
["Lunghezza tratto ","L","mm",{"$f":"'Calcolo flessioni profilo'!$D$5","v":0},{"$f":"'Calcolo flessioni profilo'!$D$5","v":0},{"$f":"'Calcolo flessioni profilo'!$D$5","v":0},{"$f":"'Calcolo flessioni profilo'!$D$5","v":0},{"$f":"'Calcolo flessioni profilo'!$D$5","v":0},{"$f":"'Calcolo flessioni profilo'!$D$5","v":0},{"$f":"'Calcolo flessioni profilo'!$D$5","v":0},{"$f":"'Calcolo flessioni profilo'!$D$5","v":0},{"$f":"'Calcolo flessioni profilo'!$D$5","v":0}]
[]
["Carico centrale applicato","P","KG",{"$f":"'Calcolo flessioni profilo'!$D$6","v":0},{"$f":"'Calcolo flessioni profilo'!$D$6","v":0},{"$f":"'Calcolo flessioni profilo'!$D$6","v":0},{"$f":"'Calcolo flessioni profilo'!$D$6","v":0},{"$f":"'Calcolo flessioni profilo'!$D$6","v":0},{"$f":"'Calcolo flessioni profilo'!$D$6","v":0},{"$f":"'Calcolo flessioni profilo'!$D$6","v":0},{"$f":"'Calcolo flessioni profilo'!$D$6","v":0},{"$f":"'Calcolo flessioni profilo'!$D$6","v":0}]
[]
["DATI ALLUMINIO 6060 stato T6"]
[]
["Modulo di elasticità","E","N/mm^2",69000,69000,69000,69000,69000,69000,69000,69000,69000]
[]
["Carico spec. al limite di elasticità","Rs","N/mm^2",150,150,150,150,150,150,150,150,150]
[]
["Carico spec. di rottura","R","N/mm^2",190,190,190,190,190,190,190,190,190]
["Risultati"]
["Flessione tratto di lunghezza L sottopostro al carico centrale P ed APPOGGIATO alle estremità","fm 1","mm",{"$f":"(POWER(D10,3)*D12*9.8)/(48*D16*D6)","v":0},{"$f":"(POWER(E10,3)*E12*9.8)/(48*E16*E6)","v":0},0,0,{"$f":"(POWER(H10,3)*H12*9.8)/(48*H16*H6)","v":0},{"$f":"(POWER(I10,3)*I12*9.8)/(48*I16*I6)","v":0},{"$f":"(POWER(J10,3)*J12*9.8)/(48*J16*J6)","v":0},0,0]
["Flessione tratto di lunghezza L sottopostro al caricoDistribuito P ed APPOGGIATO alle estremità","fm 1","mm",{"$f":"5/384*(D12*9.8*(POWER(D10,3)/(D16*D6)))","v":0},0,0,0,0,0,0,{"$f":"5/384*(K12*9.8*(POWER(K10,3)/(K16*K6)))","v":0},0]
["Flessione tratto di lunghezza L sottoposto al carico centrale P ed INCASTRATO alle estremità","fm 2","mm",{"$f":"(POWER(D10,3)*D12*9.8)/(192*D16*D6)","v":0},{"$f":"(POWER(E10,3)*E12*9.8)/(192*E16*E6)","v":0},0,0,{"$f":"(POWER(H10,3)*H12*9.8)/(192*H16*H6)","v":0},{"$f":"(POWER(I10,3)*I12*9.8)/(192*I16*I6)","v":0},{"$f":"(POWER(J10,3)*J12*9.8)/(192*J16*J6)","v":0},0,0]
["Flessione tratto di lunghezza L sottopostro al caricoDistribuito P ed INCASTRATO alle estremità",null,null,{"$f":"(D12*9.8*(POWER(D10,3)/(384*D16*D6)))","v":0},0,0,0,0,0,0,{"$f":"(K12*9.8*(POWER(K10,3)/(384*K16*K6)))","v":0},0]
[]
["Carico P max applicabile prima dello snerv.  Tratto appoggiato","P 1","KG",{"$f":"(4*D8*D18)/D10/9.8","v":{"$error":"#DIV/0!"}},{"$f":"(4*E8*E18)/E10/9.8","v":{"$error":"#DIV/0!"}},{"$error":"#DIV/0!"},{"$error":"#DIV/0!"},{"$f":"(4*H8*H18)/H10/9.8","v":{"$error":"#DIV/0!"}},{"$f":"(4*I8*I18)/I10/9.8","v":{"$error":"#DIV/0!"}},{"$f":"(4*J8*J18)/J10/9.8","v":{"$error":"#DIV/0!"}},{"$error":"#DIV/0!"},{"$error":"#DIV/0!"}]
["Carico P di rottura  Tratto appoggiato","P 2","KG",{"$f":"(4*D8*D20)/D10/9.8","v":{"$error":"#DIV/0!"}},{"$f":"(4*E8*E20)/E10/9.8","v":{"$error":"#DIV/0!"}},{"$error":"#DIV/0!"},{"$error":"#DIV/0!"},{"$f":"(4*H8*H20)/H10/9.8","v":{"$error":"#DIV/0!"}},{"$f":"(4*I8*I20)/I10/9.8","v":{"$error":"#DIV/0!"}},{"$f":"(4*J8*J20)/J10/9.8","v":{"$error":"#DIV/0!"}},{"$error":"#DIV/0!"},{"$error":"#DIV/0!"}]
["Carico P max applicabile prima dello snerv.  Tratto incastrato.","P 3","KG",{"$f":"(8*D8*D18)/D10/9.8","v":{"$error":"#DIV/0!"}},{"$f":"(8*E8*E18)/E10/9.8","v":{"$error":"#DIV/0!"}},{"$error":"#DIV/0!"},{"$error":"#DIV/0!"},{"$f":"(8*H8*H18)/H10/9.8","v":{"$error":"#DIV/0!"}},{"$f":"(8*I8*I18)/I10/9.8","v":{"$error":"#DIV/0!"}},{"$f":"(8*J8*J18)/J10/9.8","v":{"$error":"#DIV/0!"}},{"$error":"#DIV/0!"},{"$error":"#DIV/0!"}]
["Carico P di rottura  Tratto incastrato","P 4","KG",{"$f":"(8*D8*D20)/D10/9.8","v":{"$error":"#DIV/0!"}},{"$f":"(8*E8*E20)/E10/9.8","v":{"$error":"#DIV/0!"}},{"$error":"#DIV/0!"},{"$error":"#DIV/0!"},{"$f":"(8*H8*H20)/H10/9.8","v":{"$error":"#DIV/0!"}},{"$f":"(8*I8*I20)/I10/9.8","v":{"$error":"#DIV/0!"}},{"$f":"(8*J8*J20)/J10/9.8","v":{"$error":"#DIV/0!"}},{"$error":"#DIV/0!"},{"$error":"#DIV/0!"}]
[]
[]
[]
[]
["FORMULA BASE ORIGINALE"]
[]
["DATI PROFILO","sigla"]
[]
["Momento di inerzia","I",null,null,null," da tabella DIERRE"]
[]
["Modulo di resistenza","W",null,null,null," da tabella DIERRE"]
[]
["Lunghezza tratto ","L"]
[]
["Carico centrale applicato","P"]
[]
["DATI ALLUMINIO 6060 stato T6"]
[]
["Modulo di elasticità","E",null,null,null,"da tabelle Metra per lega 6060 T5"]
[]
["Carico spec. al limite di elasticità","Rs",null,null,null,"da tabelle Metra per lega 6060 T5"]
[]
["Carico spec. di rottura","R",null,null,null,"da tabelle Metra per lega 6060 T5"]
[]
["Flessione tratto di lunghezza L sottopostro al carico centrale P ed APPOGGIATO alle estremità","fm 1"]
["Flessione tratto di lunghezza L sottoposto al carico centrale P ed INCASTRATO alle estremità","fm 2"]
[]
["Carico P max applicabile prima dello snerv.  Tratto appoggiato","P 1"]
["Carico P di rottura  Tratto appoggiato","P 2"]
["Carico P max applicabile prima dello snerv.  Tratto incastrato.","P 3"]
["Carico P di rottura  Tratto incastrato","P 4"]